Package: CINdex Version: 1.28.0 Command: F:\biocbuild\bbs-3.17-bioc\R\bin\R.exe CMD check --no-multiarch --install=check:CINdex.install-out.txt --library=F:\biocbuild\bbs-3.17-bioc\R\library --no-vignettes --timings CINdex_1.28.0.tar.gz StartedAt: 2023-10-16 00:36:50 -0400 (Mon, 16 Oct 2023) EndedAt: 2023-10-16 00:38:57 -0400 (Mon, 16 Oct 2023) EllapsedTime: 127.3 seconds RetCode: 0 Status: WARNINGS CheckDir: CINdex.Rcheck Warnings: 2