Package: CINdex Version: 1.28.0 Command: /home/biocbuild/bbs-3.17-bioc/R/bin/R CMD INSTALL CINdex StartedAt: 2023-10-15 15:11:30 -0400 (Sun, 15 Oct 2023) EndedAt: 2023-10-15 15:11:56 -0400 (Sun, 15 Oct 2023) EllapsedTime: 26.5 seconds RetCode: 0 Status: OK