Package: CINdex Version: 1.28.0 Command: /home/biocbuild/bbs-3.17-bioc/R/bin/R CMD check --install=check:CINdex.install-out.txt --library=/home/biocbuild/bbs-3.17-bioc/R/site-library --timings CINdex_1.28.0.tar.gz StartedAt: 2023-10-15 20:05:24 -0400 (Sun, 15 Oct 2023) EndedAt: 2023-10-15 20:11:21 -0400 (Sun, 15 Oct 2023) EllapsedTime: 357.1 seconds RetCode: 0 Status: WARNINGS CheckDir: CINdex.Rcheck Warnings: 1