Package: CINdex Version: 1.28.0 Command: /Library/Frameworks/R.framework/Resources/bin/R CMD INSTALL CINdex StartedAt: 2023-10-15 15:15:00 -0400 (Sun, 15 Oct 2023) EndedAt: 2023-10-15 15:16:12 -0400 (Sun, 15 Oct 2023) EllapsedTime: 72.0 seconds RetCode: 0 Status: OK