Package: CIMICE Version: 1.8.0 Command: /Library/Frameworks/R.framework/Resources/bin/R CMD check --install=check:CIMICE.install-out.txt --library=/Library/Frameworks/R.framework/Resources/library --no-vignettes --timings CIMICE_1.8.0.tar.gz StartedAt: 2023-10-15 23:48:46 -0400 (Sun, 15 Oct 2023) EndedAt: 2023-10-15 23:51:52 -0400 (Sun, 15 Oct 2023) EllapsedTime: 186.0 seconds RetCode: 0 Status: OK CheckDir: CIMICE.Rcheck Warnings: 0