Package: CIMICE Version: 1.8.0 Command: rm -rf CIMICE.buildbin-libdir && mkdir CIMICE.buildbin-libdir && /Users/biocbuild/BBS/utils/build-universal.sh CIMICE_1.8.0.tar.gz /Library/Frameworks/R.framework/Resources/bin/R CIMICE.buildbin-libdir StartedAt: 2023-10-16 09:08:53 -0400 (Mon, 16 Oct 2023) EndedAt: 2023-10-16 09:09:38 -0400 (Mon, 16 Oct 2023) EllapsedTime: 45.2 seconds RetCode: 0 Status: OK PackageFile: CIMICE_1.8.0.tgz PackageFileSize: 1.235 MiB