Package: CHRONOS Version: 1.28.0 Command: F:\biocbuild\bbs-3.17-bioc\R\bin\R.exe CMD check --no-multiarch --install=check:CHRONOS.install-out.txt --library=F:\biocbuild\bbs-3.17-bioc\R\library --no-vignettes --timings CHRONOS_1.28.0.tar.gz StartedAt: 2023-10-16 00:35:28 -0400 (Mon, 16 Oct 2023) EndedAt: 2023-10-16 00:37:55 -0400 (Mon, 16 Oct 2023) EllapsedTime: 147.5 seconds RetCode: 0 Status: OK CheckDir: CHRONOS.Rcheck Warnings: 0