Package: CHRONOS Version: 1.28.0 Command: rm -rf CHRONOS.buildbin-libdir && mkdir CHRONOS.buildbin-libdir && F:\biocbuild\bbs-3.17-bioc\R\bin\R.exe CMD INSTALL --build --library=CHRONOS.buildbin-libdir CHRONOS_1.28.0.tar.gz StartedAt: 2023-10-16 08:35:00 -0400 (Mon, 16 Oct 2023) EndedAt: 2023-10-16 08:35:27 -0400 (Mon, 16 Oct 2023) EllapsedTime: 27.4 seconds RetCode: 0 Status: OK PackageFile: CHRONOS_1.28.0.zip PackageFileSize: 1.307 MiB