Package: CHETAH Version: 1.16.0 Command: chmod a+r CHETAH -R && F:\biocbuild\bbs-3.17-bioc\R\bin\R.exe CMD build --keep-empty-dirs --no-resave-data CHETAH StartedAt: 2023-10-15 18:02:58 -0400 (Sun, 15 Oct 2023) EndedAt: 2023-10-15 18:04:07 -0400 (Sun, 15 Oct 2023) EllapsedTime: 68.4 seconds RetCode: 0 Status: OK PackageFile: CHETAH_1.16.0.tar.gz PackageFileSize: 3.258 MiB