Package: CHETAH Version: 1.16.0 Command: rm -rf CHETAH.buildbin-libdir && mkdir CHETAH.buildbin-libdir && F:\biocbuild\bbs-3.17-bioc\R\bin\R.exe CMD INSTALL --build --library=CHETAH.buildbin-libdir CHETAH_1.16.0.tar.gz StartedAt: 2023-10-16 08:33:55 -0400 (Mon, 16 Oct 2023) EndedAt: 2023-10-16 08:34:29 -0400 (Mon, 16 Oct 2023) EllapsedTime: 33.9 seconds RetCode: 0 Status: OK PackageFile: CHETAH_1.16.0.zip PackageFileSize: 3.234 MiB