Package: CHETAH Version: 1.16.0 Command: /Library/Frameworks/R.framework/Resources/bin/R CMD check --install=check:CHETAH.install-out.txt --library=/Library/Frameworks/R.framework/Resources/library --no-vignettes --timings CHETAH_1.16.0.tar.gz StartedAt: 2023-10-15 23:40:58 -0400 (Sun, 15 Oct 2023) EndedAt: 2023-10-15 23:50:37 -0400 (Sun, 15 Oct 2023) EllapsedTime: 579.1 seconds RetCode: 0 Status: OK CheckDir: CHETAH.Rcheck Warnings: 0