Package: CHETAH Version: 1.16.0 Command: /Library/Frameworks/R.framework/Resources/bin/R CMD build --keep-empty-dirs --no-resave-data CHETAH StartedAt: 2023-10-15 17:21:33 -0400 (Sun, 15 Oct 2023) EndedAt: 2023-10-15 17:24:15 -0400 (Sun, 15 Oct 2023) EllapsedTime: 161.9 seconds RetCode: 0 Status: OK PackageFile: CHETAH_1.16.0.tar.gz PackageFileSize: 3.475 MiB