Package: CGHnormaliter Version: 1.54.0 Command: F:\biocbuild\bbs-3.17-bioc\R\bin\R.exe CMD check --no-multiarch --install=check:CGHnormaliter.install-out.txt --library=F:\biocbuild\bbs-3.17-bioc\R\library --no-vignettes --timings CGHnormaliter_1.54.0.tar.gz StartedAt: 2023-10-16 00:29:38 -0400 (Mon, 16 Oct 2023) EndedAt: 2023-10-16 00:31:01 -0400 (Mon, 16 Oct 2023) EllapsedTime: 82.5 seconds RetCode: 0 Status: OK CheckDir: CGHnormaliter.Rcheck Warnings: 0