Package: CGHcall Version: 2.62.0 Command: chmod a+r CGHcall -R && F:\biocbuild\bbs-3.17-bioc\R\bin\R.exe CMD build --keep-empty-dirs --no-resave-data CGHcall StartedAt: 2023-10-15 18:02:07 -0400 (Sun, 15 Oct 2023) EndedAt: 2023-10-15 18:02:32 -0400 (Sun, 15 Oct 2023) EllapsedTime: 24.9 seconds RetCode: 0 Status: OK PackageFile: CGHcall_2.62.0.tar.gz PackageFileSize: 339.7 KiB