Package: CGHcall Version: 2.62.0 Command: rm -rf CGHcall.buildbin-libdir && mkdir CGHcall.buildbin-libdir && F:\biocbuild\bbs-3.17-bioc\R\bin\R.exe CMD INSTALL --build --library=CGHcall.buildbin-libdir CGHcall_2.62.0.tar.gz StartedAt: 2023-10-16 08:33:40 -0400 (Mon, 16 Oct 2023) EndedAt: 2023-10-16 08:33:49 -0400 (Mon, 16 Oct 2023) EllapsedTime: 8.8 seconds RetCode: 0 Status: OK PackageFile: CGHcall_2.62.0.zip PackageFileSize: 421.1 KiB