Package: CGHcall Version: 2.62.0 Command: /home/biocbuild/bbs-3.17-bioc/R/bin/R CMD build --keep-empty-dirs --no-resave-data CGHcall StartedAt: 2023-10-15 16:16:09 -0400 (Sun, 15 Oct 2023) EndedAt: 2023-10-15 16:16:28 -0400 (Sun, 15 Oct 2023) EllapsedTime: 19.1 seconds RetCode: 0 Status: OK PackageFile: CGHcall_2.62.0.tar.gz PackageFileSize: 338.3 KiB