Package: CGHcall Version: 2.62.0 Command: /Library/Frameworks/R.framework/Resources/bin/R CMD INSTALL CGHcall StartedAt: 2023-10-15 15:10:59 -0400 (Sun, 15 Oct 2023) EndedAt: 2023-10-15 15:11:14 -0400 (Sun, 15 Oct 2023) EllapsedTime: 14.2 seconds RetCode: 0 Status: OK