Package: CGHcall Version: 2.62.0 Command: /Library/Frameworks/R.framework/Resources/bin/R CMD check --install=check:CGHcall.install-out.txt --library=/Library/Frameworks/R.framework/Resources/library --no-vignettes --timings CGHcall_2.62.0.tar.gz StartedAt: 2023-10-15 23:39:58 -0400 (Sun, 15 Oct 2023) EndedAt: 2023-10-15 23:41:34 -0400 (Sun, 15 Oct 2023) EllapsedTime: 96.7 seconds RetCode: 0 Status: WARNINGS CheckDir: CGHcall.Rcheck Warnings: 1