Package: CGHcall Version: 2.62.0 Command: /Library/Frameworks/R.framework/Resources/bin/R CMD build --keep-empty-dirs --no-resave-data CGHcall StartedAt: 2023-10-15 17:20:24 -0400 (Sun, 15 Oct 2023) EndedAt: 2023-10-15 17:21:19 -0400 (Sun, 15 Oct 2023) EllapsedTime: 55.1 seconds RetCode: 0 Status: OK PackageFile: CGHcall_2.62.0.tar.gz PackageFileSize: 452 KiB