Package: CGHbase Version: 1.60.0 Command: rm -rf CGHbase.buildbin-libdir && mkdir CGHbase.buildbin-libdir && F:\biocbuild\bbs-3.17-bioc\R\bin\R.exe CMD INSTALL --build --library=CGHbase.buildbin-libdir CGHbase_1.60.0.tar.gz StartedAt: 2023-10-16 08:33:38 -0400 (Mon, 16 Oct 2023) EndedAt: 2023-10-16 08:33:55 -0400 (Mon, 16 Oct 2023) EllapsedTime: 16.8 seconds RetCode: 0 Status: OK PackageFile: CGHbase_1.60.0.zip PackageFileSize: 1.055 MiB