Package: CGEN Version: 3.36.1 Command: rm -rf CGEN.buildbin-libdir && mkdir CGEN.buildbin-libdir && /Users/biocbuild/BBS/utils/build-universal.sh CGEN_3.36.1.tar.gz /Library/Frameworks/R.framework/Resources/bin/R CGEN.buildbin-libdir StartedAt: 2023-10-16 09:07:18 -0400 (Mon, 16 Oct 2023) EndedAt: 2023-10-16 09:09:01 -0400 (Mon, 16 Oct 2023) EllapsedTime: 103.3 seconds RetCode: 0 Status: OK PackageFile: CGEN_3.36.1.tgz PackageFileSize: 1.937 MiB