Package: CCPROMISE Version: 1.26.0 Command: /home/biocbuild/bbs-3.17-bioc/R/bin/R CMD check --install=check:CCPROMISE.install-out.txt --library=/home/biocbuild/bbs-3.17-bioc/R/site-library --timings CCPROMISE_1.26.0.tar.gz StartedAt: 2023-10-15 19:54:00 -0400 (Sun, 15 Oct 2023) EndedAt: 2023-10-15 19:57:27 -0400 (Sun, 15 Oct 2023) EllapsedTime: 207.3 seconds RetCode: 0 Status: WARNINGS CheckDir: CCPROMISE.Rcheck Warnings: 1