Package: CCPROMISE Version: 1.26.0 Command: /home/biocbuild/bbs-3.17-bioc/R/bin/R CMD build --keep-empty-dirs --no-resave-data CCPROMISE StartedAt: 2023-10-15 16:13:00 -0400 (Sun, 15 Oct 2023) EndedAt: 2023-10-15 16:13:41 -0400 (Sun, 15 Oct 2023) EllapsedTime: 40.5 seconds RetCode: 0 Status: OK PackageFile: CCPROMISE_1.26.0.tar.gz PackageFileSize: 1.031 MiB