Package: CCPROMISE Version: 1.26.0 Command: /Library/Frameworks/R.framework/Resources/bin/R CMD check --install=check:CCPROMISE.install-out.txt --library=/Library/Frameworks/R.framework/Resources/library --no-vignettes --timings CCPROMISE_1.26.0.tar.gz StartedAt: 2023-10-15 23:30:55 -0400 (Sun, 15 Oct 2023) EndedAt: 2023-10-15 23:37:21 -0400 (Sun, 15 Oct 2023) EllapsedTime: 386.1 seconds RetCode: 0 Status: WARNINGS CheckDir: CCPROMISE.Rcheck Warnings: 1