Package: CBNplot Version: 1.0.0 Command: chmod a+r CBNplot -R && F:\biocbuild\bbs-3.17-bioc\R\bin\R.exe CMD build --keep-empty-dirs --no-resave-data CBNplot StartedAt: 2023-10-15 17:55:54 -0400 (Sun, 15 Oct 2023) EndedAt: 2023-10-15 17:58:20 -0400 (Sun, 15 Oct 2023) EllapsedTime: 145.9 seconds RetCode: 0 Status: OK PackageFile: CBNplot_1.0.0.tar.gz PackageFileSize: 837.9 KiB