Package: CBNplot Version: 1.0.0 Command: /home/biocbuild/bbs-3.17-bioc/R/bin/R CMD INSTALL CBNplot StartedAt: 2023-10-15 15:49:30 -0400 (Sun, 15 Oct 2023) EndedAt: 2023-10-15 15:50:02 -0400 (Sun, 15 Oct 2023) EllapsedTime: 31.8 seconds RetCode: 0 Status: OK