Package: CBNplot Version: 1.0.0 Command: /Library/Frameworks/R.framework/Resources/bin/R CMD build --keep-empty-dirs --no-resave-data CBNplot StartedAt: 2023-10-15 17:14:52 -0400 (Sun, 15 Oct 2023) EndedAt: 2023-10-15 17:20:22 -0400 (Sun, 15 Oct 2023) EllapsedTime: 329.8 seconds RetCode: 0 Status: OK PackageFile: CBNplot_1.0.0.tar.gz PackageFileSize: 1.409 MiB