Package: CBEA Version: 1.0.0 Command: /home/biocbuild/bbs-3.17-bioc/R/bin/R CMD build --keep-empty-dirs --no-resave-data CBEA StartedAt: 2023-10-15 16:12:21 -0400 (Sun, 15 Oct 2023) EndedAt: 2023-10-15 16:13:27 -0400 (Sun, 15 Oct 2023) EllapsedTime: 66.0 seconds RetCode: 0 Status: OK PackageFile: CBEA_1.0.0.tar.gz PackageFileSize: 2.089 MiB