Package: CBEA Version: 1.0.0 Command: /Library/Frameworks/R.framework/Resources/bin/R CMD build --keep-empty-dirs --no-resave-data CBEA StartedAt: 2023-10-15 17:14:30 -0400 (Sun, 15 Oct 2023) EndedAt: 2023-10-15 17:17:01 -0400 (Sun, 15 Oct 2023) EllapsedTime: 151.2 seconds RetCode: 0 Status: OK PackageFile: CBEA_1.0.0.tar.gz PackageFileSize: 2.089 MiB