Package: CATALYST Version: 1.24.0 Command: F:\biocbuild\bbs-3.17-bioc\R\bin\R.exe CMD INSTALL CATALYST StartedAt: 2023-10-15 16:58:10 -0400 (Sun, 15 Oct 2023) EndedAt: 2023-10-15 16:58:57 -0400 (Sun, 15 Oct 2023) EllapsedTime: 47.0 seconds RetCode: 0 Status: OK