Package: CATALYST Version: 1.24.0 Command: chmod a+r CATALYST -R && F:\biocbuild\bbs-3.17-bioc\R\bin\R.exe CMD build --keep-empty-dirs --no-resave-data CATALYST StartedAt: 2023-10-15 17:54:42 -0400 (Sun, 15 Oct 2023) EndedAt: 2023-10-15 17:59:25 -0400 (Sun, 15 Oct 2023) EllapsedTime: 283.0 seconds RetCode: 0 Status: OK PackageFile: CATALYST_1.24.0.tar.gz PackageFileSize: 6.758 MiB