Package: CATALYST Version: 1.24.0 Command: rm -rf CATALYST.buildbin-libdir && mkdir CATALYST.buildbin-libdir && F:\biocbuild\bbs-3.17-bioc\R\bin\R.exe CMD INSTALL --build --library=CATALYST.buildbin-libdir CATALYST_1.24.0.tar.gz StartedAt: 2023-10-16 08:31:56 -0400 (Mon, 16 Oct 2023) EndedAt: 2023-10-16 08:32:46 -0400 (Mon, 16 Oct 2023) EllapsedTime: 49.6 seconds RetCode: 0 Status: OK PackageFile: CATALYST_1.24.0.zip PackageFileSize: 7.572 MiB