Package: CATALYST Version: 1.24.0 Command: /home/biocbuild/bbs-3.17-bioc/R/bin/R CMD check --install=check:CATALYST.install-out.txt --library=/home/biocbuild/bbs-3.17-bioc/R/site-library --timings CATALYST_1.24.0.tar.gz StartedAt: 2023-10-15 19:51:22 -0400 (Sun, 15 Oct 2023) EndedAt: 2023-10-15 20:03:42 -0400 (Sun, 15 Oct 2023) EllapsedTime: 740.7 seconds RetCode: 0 Status: OK CheckDir: CATALYST.Rcheck Warnings: 0