Package: CATALYST Version: 1.24.0 Command: /Library/Frameworks/R.framework/Resources/bin/R CMD INSTALL CATALYST StartedAt: 2023-10-15 16:24:11 -0400 (Sun, 15 Oct 2023) EndedAt: 2023-10-15 16:26:13 -0400 (Sun, 15 Oct 2023) EllapsedTime: 121.9 seconds RetCode: 0 Status: OK