Package: CARNIVAL Version: 2.10.0 Command: rm -rf CARNIVAL.buildbin-libdir && mkdir CARNIVAL.buildbin-libdir && F:\biocbuild\bbs-3.17-bioc\R\bin\R.exe CMD INSTALL --build --library=CARNIVAL.buildbin-libdir CARNIVAL_2.10.0.tar.gz StartedAt: 2023-10-16 08:31:53 -0400 (Mon, 16 Oct 2023) EndedAt: 2023-10-16 08:32:06 -0400 (Mon, 16 Oct 2023) EllapsedTime: 13.3 seconds RetCode: 0 Status: OK PackageFile: CARNIVAL_2.10.0.zip PackageFileSize: 419.9 KiB