Package: CARNIVAL Version: 2.10.0 Command: /home/biocbuild/bbs-3.17-bioc/R/bin/R CMD build --keep-empty-dirs --no-resave-data CARNIVAL StartedAt: 2023-10-15 16:11:54 -0400 (Sun, 15 Oct 2023) EndedAt: 2023-10-15 16:12:02 -0400 (Sun, 15 Oct 2023) EllapsedTime: 8.3 seconds RetCode: 0 Status: OK PackageFile: CARNIVAL_2.10.0.tar.gz PackageFileSize: 2.047 MiB