Package: CARNIVAL Version: 2.10.0 Command: /Library/Frameworks/R.framework/Resources/bin/R CMD INSTALL CARNIVAL StartedAt: 2023-10-15 15:44:40 -0400 (Sun, 15 Oct 2023) EndedAt: 2023-10-15 15:44:58 -0400 (Sun, 15 Oct 2023) EllapsedTime: 17.9 seconds RetCode: 0 Status: OK