Package: CARNIVAL Version: 2.10.0 Command: /Library/Frameworks/R.framework/Resources/bin/R CMD build --keep-empty-dirs --no-resave-data CARNIVAL StartedAt: 2023-10-15 17:13:09 -0400 (Sun, 15 Oct 2023) EndedAt: 2023-10-15 17:13:32 -0400 (Sun, 15 Oct 2023) EllapsedTime: 23.1 seconds RetCode: 0 Status: OK PackageFile: CARNIVAL_2.10.0.tar.gz PackageFileSize: 2.047 MiB