Package: CARNIVAL Version: 2.10.0 Command: rm -rf CARNIVAL.buildbin-libdir && mkdir CARNIVAL.buildbin-libdir && /Users/biocbuild/BBS/utils/build-universal.sh CARNIVAL_2.10.0.tar.gz /Library/Frameworks/R.framework/Resources/bin/R CARNIVAL.buildbin-libdir StartedAt: 2023-10-16 09:05:23 -0400 (Mon, 16 Oct 2023) EndedAt: 2023-10-16 09:05:52 -0400 (Mon, 16 Oct 2023) EllapsedTime: 29.2 seconds RetCode: 0 Status: OK PackageFile: CARNIVAL_2.10.0.tgz PackageFileSize: 413.8 KiB