Package: CAGEr Version: 2.6.1 Command: /home/biocbuild/bbs-3.17-bioc/R/bin/R CMD build --keep-empty-dirs --no-resave-data CAGEr StartedAt: 2023-10-15 16:10:47 -0400 (Sun, 15 Oct 2023) EndedAt: 2023-10-15 16:16:37 -0400 (Sun, 15 Oct 2023) EllapsedTime: 349.6 seconds RetCode: 0 Status: OK PackageFile: CAGEr_2.6.1.tar.gz PackageFileSize: 1.719 MiB