Package: CAGEr Version: 2.6.1 Command: /Library/Frameworks/R.framework/Resources/bin/R CMD INSTALL CAGEr StartedAt: 2023-10-15 15:59:45 -0400 (Sun, 15 Oct 2023) EndedAt: 2023-10-15 16:03:08 -0400 (Sun, 15 Oct 2023) EllapsedTime: 202.9 seconds RetCode: 0 Status: OK