Package: CAGEr Version: 2.6.1 Command: /Library/Frameworks/R.framework/Resources/bin/R CMD check --install=check:CAGEr.install-out.txt --library=/Library/Frameworks/R.framework/Resources/library --no-vignettes --timings CAGEr_2.6.1.tar.gz StartedAt: 2023-10-15 23:24:38 -0400 (Sun, 15 Oct 2023) EndedAt: 2023-10-15 23:50:36 -0400 (Sun, 15 Oct 2023) EllapsedTime: 1558.0 seconds RetCode: 0 Status: OK CheckDir: CAGEr.Rcheck Warnings: 0