Package: CAGEr Version: 2.6.1 Command: rm -rf CAGEr.buildbin-libdir && mkdir CAGEr.buildbin-libdir && /Users/biocbuild/BBS/utils/build-universal.sh CAGEr_2.6.1.tar.gz /Library/Frameworks/R.framework/Resources/bin/R CAGEr.buildbin-libdir StartedAt: 2023-10-16 09:04:50 -0400 (Mon, 16 Oct 2023) EndedAt: 2023-10-16 09:08:10 -0400 (Mon, 16 Oct 2023) EllapsedTime: 199.5 seconds RetCode: 0 Status: OK PackageFile: CAGEr_2.6.1.tgz PackageFileSize: 2.86 MiB