Package: CAGEfightR Version: 1.20.0 Command: /Library/Frameworks/R.framework/Resources/bin/R CMD build --keep-empty-dirs --no-resave-data CAGEfightR StartedAt: 2023-10-15 17:10:51 -0400 (Sun, 15 Oct 2023) EndedAt: 2023-10-15 17:18:01 -0400 (Sun, 15 Oct 2023) EllapsedTime: 430.1 seconds RetCode: 0 Status: OK PackageFile: CAGEfightR_1.20.0.tar.gz PackageFileSize: 1.682 MiB