Package: CAEN Version: 1.8.0 Command: rm -rf CAEN.buildbin-libdir && mkdir CAEN.buildbin-libdir && F:\biocbuild\bbs-3.17-bioc\R\bin\R.exe CMD INSTALL --build --library=CAEN.buildbin-libdir CAEN_1.8.0.tar.gz StartedAt: 2023-10-16 08:31:22 -0400 (Mon, 16 Oct 2023) EndedAt: 2023-10-16 08:31:46 -0400 (Mon, 16 Oct 2023) EllapsedTime: 24.4 seconds RetCode: 0 Status: OK PackageFile: CAEN_1.8.0.zip PackageFileSize: 1.604 MiB