Package: CAEN Version: 1.8.0 Command: /home/biocbuild/bbs-3.17-bioc/R/bin/R CMD INSTALL CAEN StartedAt: 2023-10-15 15:13:30 -0400 (Sun, 15 Oct 2023) EndedAt: 2023-10-15 15:13:51 -0400 (Sun, 15 Oct 2023) EllapsedTime: 20.3 seconds RetCode: 0 Status: OK