Package: CAEN Version: 1.8.0 Command: /home/biocbuild/bbs-3.17-bioc/R/bin/R CMD check --install=check:CAEN.install-out.txt --library=/home/biocbuild/bbs-3.17-bioc/R/site-library --timings CAEN_1.8.0.tar.gz StartedAt: 2023-10-15 19:48:00 -0400 (Sun, 15 Oct 2023) EndedAt: 2023-10-15 19:51:58 -0400 (Sun, 15 Oct 2023) EllapsedTime: 238.0 seconds RetCode: 0 Status: OK CheckDir: CAEN.Rcheck Warnings: 0