Package: CAEN Version: 1.8.0 Command: /Library/Frameworks/R.framework/Resources/bin/R CMD check --install=check:CAEN.install-out.txt --library=/Library/Frameworks/R.framework/Resources/library --no-vignettes --timings CAEN_1.8.0.tar.gz StartedAt: 2023-10-15 23:23:38 -0400 (Sun, 15 Oct 2023) EndedAt: 2023-10-15 23:29:33 -0400 (Sun, 15 Oct 2023) EllapsedTime: 355.2 seconds RetCode: 0 Status: OK CheckDir: CAEN.Rcheck Warnings: 0