Package: CAEN Version: 1.8.0 Command: rm -rf CAEN.buildbin-libdir && mkdir CAEN.buildbin-libdir && /Users/biocbuild/BBS/utils/build-universal.sh CAEN_1.8.0.tar.gz /Library/Frameworks/R.framework/Resources/bin/R CAEN.buildbin-libdir StartedAt: 2023-10-16 09:04:43 -0400 (Mon, 16 Oct 2023) EndedAt: 2023-10-16 09:05:49 -0400 (Mon, 16 Oct 2023) EllapsedTime: 65.8 seconds RetCode: 0 Status: OK PackageFile: CAEN_1.8.0.tgz PackageFileSize: 1.601 MiB