Package: BumpyMatrix Version: 1.8.0 Command: /home/biocbuild/bbs-3.17-bioc/R/bin/R CMD check --install=check:BumpyMatrix.install-out.txt --library=/home/biocbuild/bbs-3.17-bioc/R/site-library --timings BumpyMatrix_1.8.0.tar.gz StartedAt: 2023-10-15 19:46:34 -0400 (Sun, 15 Oct 2023) EndedAt: 2023-10-15 19:48:09 -0400 (Sun, 15 Oct 2023) EllapsedTime: 94.7 seconds RetCode: 0 Status: OK CheckDir: BumpyMatrix.Rcheck Warnings: 0